BEGIN:VCALENDAR
VERSION:2.0
PRODID:-//SCI Michigan Bowhunters - ECPv6.15.20//NONSGML v1.0//EN
CALSCALE:GREGORIAN
METHOD:PUBLISH
X-ORIGINAL-URL:https://scibowhunters.org
X-WR-CALDESC:Events for SCI Michigan Bowhunters
REFRESH-INTERVAL;VALUE=DURATION:PT1H
X-Robots-Tag:noindex
X-PUBLISHED-TTL:PT1H
BEGIN:VTIMEZONE
TZID:UTC
BEGIN:STANDARD
TZOFFSETFROM:+0000
TZOFFSETTO:+0000
TZNAME:UTC
DTSTART:20190101T000000
END:STANDARD
END:VTIMEZONE
BEGIN:VEVENT
DTSTART;VALUE=DATE:20200220
DTEND;VALUE=DATE:20200221
DTSTAMP:20260425T204414
CREATED:20190411T005935Z
LAST-MODIFIED:20200219T131842Z
UID:122278-1582156800-1582243199@scibowhunters.org
SUMMARY:M/S Mtg Wild Game Dinner & Photo Contest
DESCRIPTION:Download (PDF\, 686KB) \nDownload (DOCX\, 13KB)
URL:https://scibowhunters.org/event/m-s-mtg-wild-game-dinner-photo-contest/
LOCATION:MI
END:VEVENT
END:VCALENDAR