BEGIN:VCALENDAR
VERSION:2.0
PRODID:-//SCI Michigan Bowhunters - ECPv6.15.20//NONSGML v1.0//EN
CALSCALE:GREGORIAN
METHOD:PUBLISH
X-WR-CALNAME:SCI Michigan Bowhunters
X-ORIGINAL-URL:https://scibowhunters.org
X-WR-CALDESC:Events for SCI Michigan Bowhunters
REFRESH-INTERVAL;VALUE=DURATION:PT1H
X-Robots-Tag:noindex
X-PUBLISHED-TTL:PT1H
BEGIN:VTIMEZONE
TZID:UTC
BEGIN:STANDARD
TZOFFSETFROM:+0000
TZOFFSETTO:+0000
TZNAME:UTC
DTSTART:20190101T000000
END:STANDARD
END:VTIMEZONE
BEGIN:VEVENT
DTSTART;VALUE=DATE:20200523
DTEND;VALUE=DATE:20200524
DTSTAMP:20260425T103341
CREATED:20200418T162433Z
LAST-MODIFIED:20200418T162506Z
UID:122688-1590192000-1590278399@scibowhunters.org
SUMMARY:Palmer Park Fishing Derby (Tentative)
DESCRIPTION:Palmer Park Fishing Derby – Tentative due to Coronavirus shutdown
URL:https://scibowhunters.org/event/palmer-park-fishing-derby-tentative/
LOCATION:MI
END:VEVENT
END:VCALENDAR