BEGIN:VCALENDAR
VERSION:2.0
PRODID:-//SCI Michigan Bowhunters - ECPv6.15.20//NONSGML v1.0//EN
CALSCALE:GREGORIAN
METHOD:PUBLISH
X-WR-CALNAME:SCI Michigan Bowhunters
X-ORIGINAL-URL:https://scibowhunters.org
X-WR-CALDESC:Events for SCI Michigan Bowhunters
REFRESH-INTERVAL;VALUE=DURATION:PT1H
X-Robots-Tag:noindex
X-PUBLISHED-TTL:PT1H
BEGIN:VTIMEZONE
TZID:UTC
BEGIN:STANDARD
TZOFFSETFROM:+0000
TZOFFSETTO:+0000
TZNAME:UTC
DTSTART:20190101T000000
END:STANDARD
END:VTIMEZONE
BEGIN:VEVENT
DTSTART;VALUE=DATE:20201001
DTEND;VALUE=DATE:20201002
DTSTAMP:20260424T232216
CREATED:20200418T162019Z
LAST-MODIFIED:20200620T144545Z
UID:122686-1601510400-1601596799@scibowhunters.org
SUMMARY:Salvation Army Sporting Clays Shoot (Will be held in October date to be determined.)
DESCRIPTION:Salvation Army Sporting Clays Shoot (Will be held in October date to be determined.)
URL:https://scibowhunters.org/event/salvation-army-sporting-clays-shoot-tentative/
LOCATION:MI
END:VEVENT
BEGIN:VEVENT
DTSTART;VALUE=DATE:20201001
DTEND;VALUE=DATE:20201002
DTSTAMP:20260424T232216
CREATED:20200418T164329Z
LAST-MODIFIED:20200418T164350Z
UID:122707-1601510400-1601596799@scibowhunters.org
SUMMARY:Archery Season opens statewide
DESCRIPTION:Archery Season opens statewide
URL:https://scibowhunters.org/event/archery-season-opens-statewide/
LOCATION:MI
END:VEVENT
END:VCALENDAR