BEGIN:VCALENDAR
VERSION:2.0
PRODID:-//SCI Michigan Bowhunters - ECPv6.15.20//NONSGML v1.0//EN
CALSCALE:GREGORIAN
METHOD:PUBLISH
X-WR-CALNAME:SCI Michigan Bowhunters
X-ORIGINAL-URL:https://scibowhunters.org
X-WR-CALDESC:Events for SCI Michigan Bowhunters
REFRESH-INTERVAL;VALUE=DURATION:PT1H
X-Robots-Tag:noindex
X-PUBLISHED-TTL:PT1H
BEGIN:VTIMEZONE
TZID:UTC
BEGIN:STANDARD
TZOFFSETFROM:+0000
TZOFFSETTO:+0000
TZNAME:UTC
DTSTART:20190101T000000
END:STANDARD
END:VTIMEZONE
BEGIN:VEVENT
DTSTART;TZID=UTC:20201212T120000
DTEND;TZID=UTC:20201212T150000
DTSTAMP:20260424T201745
CREATED:20201204T131958Z
LAST-MODIFIED:20201204T132143Z
UID:122823-1607774400-1607785200@scibowhunters.org
SUMMARY:Christmas Party Open House
DESCRIPTION:
URL:https://scibowhunters.org/event/christmas-party-open-house/
LOCATION:CAMP LIBERTY\, 7044 Kappler Drive\, Brooklyn\, MI\, 49230\, United States
END:VEVENT
END:VCALENDAR