BEGIN:VCALENDAR
VERSION:2.0
PRODID:-//SCI Michigan Bowhunters - ECPv6.15.20//NONSGML v1.0//EN
CALSCALE:GREGORIAN
METHOD:PUBLISH
X-ORIGINAL-URL:https://scibowhunters.org
X-WR-CALDESC:Events for SCI Michigan Bowhunters
REFRESH-INTERVAL;VALUE=DURATION:PT1H
X-Robots-Tag:noindex
X-PUBLISHED-TTL:PT1H
BEGIN:VTIMEZONE
TZID:UTC
BEGIN:STANDARD
TZOFFSETFROM:+0000
TZOFFSETTO:+0000
TZNAME:UTC
DTSTART:20180101T000000
END:STANDARD
END:VTIMEZONE
BEGIN:VEVENT
DTSTART;VALUE=DATE:20191206
DTEND;VALUE=DATE:20191207
DTSTAMP:20260425T204400
CREATED:20190411T004444Z
LAST-MODIFIED:20190411T004444Z
UID:122264-1575590400-1575676799@scibowhunters.org
SUMMARY:Chapter Christmas Party
DESCRIPTION:Dec 6\, 2019 Chapter Christmas Party at St. Basils @ 6pm
URL:https://scibowhunters.org/event/chapter-christmas-party/
LOCATION:MI
END:VEVENT
BEGIN:VEVENT
DTSTART;VALUE=DATE:20191206
DTEND;VALUE=DATE:20191207
DTSTAMP:20260425T204400
CREATED:20190411T004625Z
LAST-MODIFIED:20190411T011147Z
UID:122266-1575590400-1575676799@scibowhunters.org
SUMMARY:Muzzle Loader season open for zones 1\, 2\, & 3
DESCRIPTION:Dec 06-15 Muzzle Loader season zone 1\, 2\, zone 3 Dec 6\,-22
URL:https://scibowhunters.org/event/muzzle-loader-season-open-for-zones-1-2/
LOCATION:MI
END:VEVENT
BEGIN:VEVENT
DTSTART;VALUE=DATE:20191215
DTEND;VALUE=DATE:20191216
DTSTAMP:20260425T204400
CREATED:20190411T004745Z
LAST-MODIFIED:20190411T010953Z
UID:122268-1576368000-1576454399@scibowhunters.org
SUMMARY:Muzzle Loader season for zones 1 & 2 ends
DESCRIPTION:Dec 06-15 Muzzle Loader season zone 1\, 2\, zone 3 Dec 6\,-22
URL:https://scibowhunters.org/event/muzzle-loader-season-closes-for-zones-1-2/
LOCATION:MI
END:VEVENT
BEGIN:VEVENT
DTSTART;VALUE=DATE:20191222
DTEND;VALUE=DATE:20191223
DTSTAMP:20260425T204400
CREATED:20190411T005033Z
LAST-MODIFIED:20190411T005033Z
UID:122272-1576972800-1577059199@scibowhunters.org
SUMMARY:Muzzle Loader season for zone 3 ends
DESCRIPTION:Dec 06-15 Muzzle Loader season zone 1\, 2\, zone 3 Dec 6\,-22
URL:https://scibowhunters.org/event/muzzle-loader-season-for-zone-3-ends/
LOCATION:MI
END:VEVENT
BEGIN:VEVENT
DTSTART;VALUE=DATE:20191223
DTEND;VALUE=DATE:20191224
DTSTAMP:20260425T204400
CREATED:20190411T005407Z
LAST-MODIFIED:20190411T005407Z
UID:122274-1577059200-1577145599@scibowhunters.org
SUMMARY:Late firearm antlerless season starts
DESCRIPTION:Late firearm antlerless season Dec 23-Jan 1\, 2020
URL:https://scibowhunters.org/event/late-firearm-antlerless-season-starts/
LOCATION:MI
END:VEVENT
END:VCALENDAR