BEGIN:VCALENDAR
VERSION:2.0
PRODID:-//SCI Michigan Bowhunters - ECPv6.15.20//NONSGML v1.0//EN
CALSCALE:GREGORIAN
METHOD:PUBLISH
X-WR-CALNAME:SCI Michigan Bowhunters
X-ORIGINAL-URL:https://scibowhunters.org
X-WR-CALDESC:Events for SCI Michigan Bowhunters
REFRESH-INTERVAL;VALUE=DURATION:PT1H
X-Robots-Tag:noindex
X-PUBLISHED-TTL:PT1H
BEGIN:VTIMEZONE
TZID:UTC
BEGIN:STANDARD
TZOFFSETFROM:+0000
TZOFFSETTO:+0000
TZNAME:UTC
DTSTART:20190101T000000
END:STANDARD
END:VTIMEZONE
BEGIN:VEVENT
DTSTART;VALUE=DATE:20200215
DTEND;VALUE=DATE:20200216
DTSTAMP:20260425T171053
CREATED:20190411T010119Z
LAST-MODIFIED:20190411T010140Z
UID:122280-1581724800-1581811199@scibowhunters.org
SUMMARY:Camp Liberty Gala\, Laurel Manor
DESCRIPTION:Feb 15\, 2020 Camp Liberty Gala\, Laurel Manor
URL:https://scibowhunters.org/event/camp-liberty-gala-laurel-manor/
LOCATION:MI
END:VEVENT
BEGIN:VEVENT
DTSTART;VALUE=DATE:20200220
DTEND;VALUE=DATE:20200221
DTSTAMP:20260425T171053
CREATED:20190411T005935Z
LAST-MODIFIED:20200219T131842Z
UID:122278-1582156800-1582243199@scibowhunters.org
SUMMARY:M/S Mtg Wild Game Dinner & Photo Contest
DESCRIPTION:Download (PDF\, 686KB) \nDownload (DOCX\, 13KB)
URL:https://scibowhunters.org/event/m-s-mtg-wild-game-dinner-photo-contest/
LOCATION:MI
END:VEVENT
BEGIN:VEVENT
DTSTART;VALUE=DATE:20200227
DTEND;VALUE=DATE:20200302
DTSTAMP:20260425T171054
CREATED:20190411T010450Z
LAST-MODIFIED:20200121T174308Z
UID:122282-1582761600-1583107199@scibowhunters.org
SUMMARY:2020 Outdoorama\, Novi
DESCRIPTION:Feb 26 thru 29\, 2020 Outdoorama\, Novi
URL:https://scibowhunters.org/event/2020-outdoorama-novi/
LOCATION:MI
END:VEVENT
END:VCALENDAR