BEGIN:VCALENDAR
VERSION:2.0
PRODID:-//SCI Michigan Bowhunters - ECPv6.15.20//NONSGML v1.0//EN
CALSCALE:GREGORIAN
METHOD:PUBLISH
X-ORIGINAL-URL:https://scibowhunters.org
X-WR-CALDESC:Events for SCI Michigan Bowhunters
REFRESH-INTERVAL;VALUE=DURATION:PT1H
X-Robots-Tag:noindex
X-PUBLISHED-TTL:PT1H
BEGIN:VTIMEZONE
TZID:UTC
BEGIN:STANDARD
TZOFFSETFROM:+0000
TZOFFSETTO:+0000
TZNAME:UTC
DTSTART:20190101T000000
END:STANDARD
END:VTIMEZONE
BEGIN:VEVENT
DTSTART;VALUE=DATE:20200622
DTEND;VALUE=DATE:20200624
DTSTAMP:20260425T040107
CREATED:20200418T162918Z
LAST-MODIFIED:20200620T142959Z
UID:122693-1592784000-1592956799@scibowhunters.org
SUMMARY:Salvation Army Teen Camp Echo Grove DNR Class Archery
DESCRIPTION:Salvation Army Teen Camp Echo Grove DNR Class Archery
URL:https://scibowhunters.org/event/salvation-army-teen-camp-echo-grove-dnr-class-archery-tentative/
LOCATION:Echo Grove Camp\, 1101 Camp Rd\, Leonard\, Leonard\, Michigan\, 48367
END:VEVENT
END:VCALENDAR