BEGIN:VCALENDAR
VERSION:2.0
PRODID:-//SCI Michigan Bowhunters - ECPv6.15.20//NONSGML v1.0//EN
CALSCALE:GREGORIAN
METHOD:PUBLISH
X-WR-CALNAME:SCI Michigan Bowhunters
X-ORIGINAL-URL:https://scibowhunters.org
X-WR-CALDESC:Events for SCI Michigan Bowhunters
REFRESH-INTERVAL;VALUE=DURATION:PT1H
X-Robots-Tag:noindex
X-PUBLISHED-TTL:PT1H
BEGIN:VTIMEZONE
TZID:UTC
BEGIN:STANDARD
TZOFFSETFROM:+0000
TZOFFSETTO:+0000
TZNAME:UTC
DTSTART:20190101T000000
END:STANDARD
END:VTIMEZONE
BEGIN:VEVENT
DTSTART;VALUE=DATE:20200715
DTEND;VALUE=DATE:20200716
DTSTAMP:20260425T035452
CREATED:20200418T163316Z
LAST-MODIFIED:20200620T142352Z
UID:122695-1594771200-1594857599@scibowhunters.org
SUMMARY:Membership Mtg Turkey Seminar at St. Basils
DESCRIPTION:Membership Mtg Turkey Seminar at St. Basils
URL:https://scibowhunters.org/event/membership-mtg-turkey-seminar-at-st-basils-tentative/
LOCATION:St. Basil Banquet Hall\, 4800 Metropolitan Parkway\, Sterling Heights\, MI\, 48310\, United States
END:VEVENT
BEGIN:VEVENT
DTSTART;VALUE=DATE:20200728
DTEND;VALUE=DATE:20200729
DTSTAMP:20260425T035452
CREATED:20200418T163427Z
LAST-MODIFIED:20200620T142808Z
UID:122697-1595894400-1595980799@scibowhunters.org
SUMMARY:Salvation Army Field Day at Echo Grove Archery and Pellet guns
DESCRIPTION:Salvation Army Field Day at Echo Grove Archery and Pellet guns
URL:https://scibowhunters.org/event/salvation-army-field-day-at-echo-grove-archery-and-pellet-guns-tentative/
LOCATION:Echo Grove Camp\, 1101 Camp Rd\, Leonard\, Leonard\, Michigan\, 48367
END:VEVENT
END:VCALENDAR