BEGIN:VCALENDAR
VERSION:2.0
PRODID:-//SCI Michigan Bowhunters - ECPv6.15.20//NONSGML v1.0//EN
CALSCALE:GREGORIAN
METHOD:PUBLISH
X-WR-CALNAME:SCI Michigan Bowhunters
X-ORIGINAL-URL:https://scibowhunters.org
X-WR-CALDESC:Events for SCI Michigan Bowhunters
REFRESH-INTERVAL;VALUE=DURATION:PT1H
X-Robots-Tag:noindex
X-PUBLISHED-TTL:PT1H
BEGIN:VTIMEZONE
TZID:UTC
BEGIN:STANDARD
TZOFFSETFROM:+0000
TZOFFSETTO:+0000
TZNAME:UTC
DTSTART:20190101T000000
END:STANDARD
END:VTIMEZONE
BEGIN:VEVENT
DTSTART;VALUE=DATE:20200814
DTEND;VALUE=DATE:20200817
DTSTAMP:20260425T005239
CREATED:20200418T163637Z
LAST-MODIFIED:20200620T144131Z
UID:122699-1597363200-1597622399@scibowhunters.org
SUMMARY:Chapter S.H.A.P. Youth Camp at the Salvation (CANCELLED - Due to COVID will be restarted next year.)
DESCRIPTION:Chapter SHAP Youth Camp at the Salvation (CANCELLED – Due to COVID will be restarted next year.)
URL:https://scibowhunters.org/event/chapter-shap-youth-camp-at-the-salvation-tentative/
LOCATION:MI
END:VEVENT
BEGIN:VEVENT
DTSTART;VALUE=DATE:20200830
DTEND;VALUE=DATE:20200831
DTSTAMP:20260425T005239
CREATED:20200418T163829Z
LAST-MODIFIED:20200620T142542Z
UID:122701-1598745600-1598831999@scibowhunters.org
SUMMARY:2020 Chapter Picnic/Heritage Days Huron Pointe
DESCRIPTION:2020 Chapter Picnic/Heritage Days Huron Pointe Sportsmen Club Archery and the Shooting Sports
URL:https://scibowhunters.org/event/2020-chapter-picnic-heritage-days-huron-pointe-tentative/
LOCATION:MI
END:VEVENT
END:VCALENDAR