BEGIN:VCALENDAR
VERSION:2.0
PRODID:-//SCI Michigan Bowhunters - ECPv6.15.20//NONSGML v1.0//EN
CALSCALE:GREGORIAN
METHOD:PUBLISH
X-ORIGINAL-URL:https://scibowhunters.org
X-WR-CALDESC:Events for SCI Michigan Bowhunters
REFRESH-INTERVAL;VALUE=DURATION:PT1H
X-Robots-Tag:noindex
X-PUBLISHED-TTL:PT1H
BEGIN:VTIMEZONE
TZID:UTC
BEGIN:STANDARD
TZOFFSETFROM:+0000
TZOFFSETTO:+0000
TZNAME:UTC
DTSTART:20210101T000000
END:STANDARD
END:VTIMEZONE
BEGIN:VEVENT
DTSTART;VALUE=DATE:20221202
DTEND;VALUE=DATE:20221203
DTSTAMP:20260421T195747
CREATED:20220924T135822Z
LAST-MODIFIED:20221110T223406Z
UID:123074-1669939200-1670025599@scibowhunters.org
SUMMARY:2022 Chapter Christmas Party
DESCRIPTION:Download (PDF\, 609KB)
URL:https://scibowhunters.org/event/2022-chapter-christmas-party/
LOCATION:St. Basil Banquet Hall\, 4800 Metropolitan Parkway\, Sterling Heights\, MI\, 48310\, United States
END:VEVENT
BEGIN:VEVENT
DTSTART;VALUE=DATE:20221202
DTEND;VALUE=DATE:20221203
DTSTAMP:20260421T195747
CREATED:20220924T135923Z
LAST-MODIFIED:20220924T135923Z
UID:123076-1669939200-1670025599@scibowhunters.org
SUMMARY:Start of Muzzle Loader Season Zones 1\, 2\, 3
DESCRIPTION:
URL:https://scibowhunters.org/event/start-of-muzzle-loader-season-zones-1-2-3/
LOCATION:MI
END:VEVENT
BEGIN:VEVENT
DTSTART;VALUE=DATE:20221211
DTEND;VALUE=DATE:20221212
DTSTAMP:20260421T195747
CREATED:20220924T140007Z
LAST-MODIFIED:20220924T140007Z
UID:123078-1670716800-1670803199@scibowhunters.org
SUMMARY:End of Muzzle Loader season zones 1\, 2\, 3
DESCRIPTION:
URL:https://scibowhunters.org/event/end-of-muzzle-loader-season-zones-1-2-3/
LOCATION:MI
END:VEVENT
BEGIN:VEVENT
DTSTART;VALUE=DATE:20221212
DTEND;VALUE=DATE:20221213
DTSTAMP:20260421T195747
CREATED:20220924T140104Z
LAST-MODIFIED:20220924T140104Z
UID:123080-1670803200-1670889599@scibowhunters.org
SUMMARY:Start of Late Firearm Antlerless Season
DESCRIPTION:
URL:https://scibowhunters.org/event/start-of-late-firearm-antlerless-season/
LOCATION:MI
END:VEVENT
END:VCALENDAR