BEGIN:VCALENDAR
VERSION:2.0
PRODID:-//SCI Michigan Bowhunters - ECPv6.15.20//NONSGML v1.0//EN
CALSCALE:GREGORIAN
METHOD:PUBLISH
X-WR-CALNAME:SCI Michigan Bowhunters
X-ORIGINAL-URL:https://scibowhunters.org
X-WR-CALDESC:Events for SCI Michigan Bowhunters
REFRESH-INTERVAL;VALUE=DURATION:PT1H
X-Robots-Tag:noindex
X-PUBLISHED-TTL:PT1H
BEGIN:VTIMEZONE
TZID:UTC
BEGIN:STANDARD
TZOFFSETFROM:+0000
TZOFFSETTO:+0000
TZNAME:UTC
DTSTART:20220101T000000
END:STANDARD
END:VTIMEZONE
BEGIN:VEVENT
DTSTART;VALUE=DATE:20230101
DTEND;VALUE=DATE:20230102
DTSTAMP:20260421T181618
CREATED:20220924T135358Z
LAST-MODIFIED:20220924T135358Z
UID:123068-1672531200-1672617599@scibowhunters.org
SUMMARY:End of Bow Season State Wide
DESCRIPTION:
URL:https://scibowhunters.org/event/end-of-bow-season-state-wide/
LOCATION:MI
END:VEVENT
BEGIN:VEVENT
DTSTART;VALUE=DATE:20230101
DTEND;VALUE=DATE:20230102
DTSTAMP:20260421T181618
CREATED:20220924T140146Z
LAST-MODIFIED:20220924T140146Z
UID:123082-1672531200-1672617599@scibowhunters.org
SUMMARY:End of Late Firearm Antlerless Season
DESCRIPTION:
URL:https://scibowhunters.org/event/end-of-late-firearm-antlerless-season/
LOCATION:MI
END:VEVENT
END:VCALENDAR